BEGIN:VCALENDAR
VERSION:2.0
PRODID:-//FREQUENCE PLUS//FR
CALSCALE:GREGORIAN
BEGIN:VEVENT
UID:event-ea5@frequenceplus.fr
DTSTAMP:20260421T091727
DTSTART:20260425T000000
DTEND:20260427T000000
SUMMARY:Coup de foudre à Casteljarnac - Pièce de théâtre
LOCATION:Salle des fêtes, 21700 Comblanchien
DESCRIPTION:Afin de redorer son blason\, une baronne désargentée cherche 
 pour sa fille\, pas très gâtée par la nature\, un prétendant aussi ric
 he que peu regardant. Elle pense avoir trouvé le gendre idéal mais...\nD
 ans ce vaudeville aux multiples rebondissements\, quatre personnages délu
 rés se confrontent dans le vieux salon de la demeure ancestrale de la dyn
 astie de Casteljarnac.\n\nPièce en 2 actes - durée 1h 15\nSéances à 20
 h30 le 25 avril et à 15 h le 26 avril\n\nAjouté depuis Fréquence Plus :
  https://www.frequenceplus.fr/ma-region/bons-plans/departement-21/ea5.html
END:VEVENT
END:VCALENDAR
